BEGIN:VCALENDAR
VERSION:2.0
PRODID:-//Angelfreunde &quot;Ara&quot; e.V. - ECPv6.15.20//NONSGML v1.0//EN
CALSCALE:GREGORIAN
METHOD:PUBLISH
X-WR-CALNAME:Angelfreunde &quot;Ara&quot; e.V.
X-ORIGINAL-URL:https://angelfreundeara.de
X-WR-CALDESC:Veranstaltungen für Angelfreunde &quot;Ara&quot; e.V.
REFRESH-INTERVAL;VALUE=DURATION:PT1H
X-Robots-Tag:noindex
X-PUBLISHED-TTL:PT1H
BEGIN:VTIMEZONE
TZID:Europe/Berlin
BEGIN:DAYLIGHT
TZOFFSETFROM:+0100
TZOFFSETTO:+0200
TZNAME:CEST
DTSTART:20250330T010000
END:DAYLIGHT
BEGIN:STANDARD
TZOFFSETFROM:+0200
TZOFFSETTO:+0100
TZNAME:CET
DTSTART:20251026T010000
END:STANDARD
BEGIN:DAYLIGHT
TZOFFSETFROM:+0100
TZOFFSETTO:+0200
TZNAME:CEST
DTSTART:20260329T010000
END:DAYLIGHT
BEGIN:STANDARD
TZOFFSETFROM:+0200
TZOFFSETTO:+0100
TZNAME:CET
DTSTART:20261025T010000
END:STANDARD
BEGIN:DAYLIGHT
TZOFFSETFROM:+0100
TZOFFSETTO:+0200
TZNAME:CEST
DTSTART:20270328T010000
END:DAYLIGHT
BEGIN:STANDARD
TZOFFSETFROM:+0200
TZOFFSETTO:+0100
TZNAME:CET
DTSTART:20271031T010000
END:STANDARD
END:VTIMEZONE
BEGIN:VEVENT
DTSTART;TZID=Europe/Berlin:20261128T150000
DTEND;TZID=Europe/Berlin:20261128T233000
DTSTAMP:20260424T113405
CREATED:20260125T150246Z
LAST-MODIFIED:20260125T150254Z
UID:1285-1795878000-1795908600@angelfreundeara.de
SUMMARY:Weihnachtsfeier
DESCRIPTION:ist noch in Planung ! evtl. am 5.12.2026
URL:https://angelfreundeara.de/event/weihnachtsfeier/
END:VEVENT
END:VCALENDAR